BEGIN:VCALENDAR
VERSION:2.0
PRODID:-//Aprofarm - ECPv6.15.20//NONSGML v1.0//EN
CALSCALE:GREGORIAN
METHOD:PUBLISH
X-ORIGINAL-URL:https://www.aprofarm.com
X-WR-CALDESC:Eventos para Aprofarm
REFRESH-INTERVAL;VALUE=DURATION:PT1H
X-Robots-Tag:noindex
X-PUBLISHED-TTL:PT1H
BEGIN:VTIMEZONE
TZID:Europe/Madrid
BEGIN:DAYLIGHT
TZOFFSETFROM:+0100
TZOFFSETTO:+0200
TZNAME:CEST
DTSTART:20240331T010000
END:DAYLIGHT
BEGIN:STANDARD
TZOFFSETFROM:+0200
TZOFFSETTO:+0100
TZNAME:CET
DTSTART:20241027T010000
END:STANDARD
BEGIN:DAYLIGHT
TZOFFSETFROM:+0100
TZOFFSETTO:+0200
TZNAME:CEST
DTSTART:20250330T010000
END:DAYLIGHT
BEGIN:STANDARD
TZOFFSETFROM:+0200
TZOFFSETTO:+0100
TZNAME:CET
DTSTART:20251026T010000
END:STANDARD
BEGIN:DAYLIGHT
TZOFFSETFROM:+0100
TZOFFSETTO:+0200
TZNAME:CEST
DTSTART:20260329T010000
END:DAYLIGHT
BEGIN:STANDARD
TZOFFSETFROM:+0200
TZOFFSETTO:+0100
TZNAME:CET
DTSTART:20261025T010000
END:STANDARD
END:VTIMEZONE
BEGIN:VEVENT
DTSTART;TZID=Europe/Madrid:20250616T150000
DTEND;TZID=Europe/Madrid:20250627T210000
DTSTAMP:20260424T002835
CREATED:20250606T110954Z
LAST-MODIFIED:20250613T063501Z
UID:44863-1750086000-1751058000@www.aprofarm.com
SUMMARY:Curs Dermocosmetica
DESCRIPTION:El curs està dirigit a estudiants dels graus de Biotecnologia\, Bioquímica\, Química i Enginyeria Química. Aquesta nova edició serà impartida per professorat del Departament de Bioquímica i Biotecnologia de la URV\, l’ICIQ\, així com per professionals de referència del sector\, com APROFARM\, COFT\, Laboratoris Maverick i SEQC. \nPROGRAMA
URL:https://www.aprofarm.com/evento/curs-dermocosmetica/
LOCATION:URV\, Carrer de l'Escorxador\, Tarragona\, Tarragona\, 43003\, Spain
CATEGORIES:cosmética,Formulación Magistral,Curso,Título
ATTACH;FMTTYPE=image/png:https://www.aprofarm.com/wp-content/uploads/2025/06/screen-14.04.4406.06.2025.png
ORGANIZER;CN="COFT":MAILTO:formacio@coft.cat
END:VEVENT
END:VCALENDAR