BEGIN:VCALENDAR
VERSION:2.0
PRODID:-//Aprofarm - ECPv6.15.20//NONSGML v1.0//EN
CALSCALE:GREGORIAN
METHOD:PUBLISH
X-ORIGINAL-URL:https://www.aprofarm.com
X-WR-CALDESC:Eventos para Aprofarm
REFRESH-INTERVAL;VALUE=DURATION:PT1H
X-Robots-Tag:noindex
X-PUBLISHED-TTL:PT1H
BEGIN:VTIMEZONE
TZID:Europe/Madrid
BEGIN:DAYLIGHT
TZOFFSETFROM:+0100
TZOFFSETTO:+0200
TZNAME:CEST
DTSTART:20240331T010000
END:DAYLIGHT
BEGIN:STANDARD
TZOFFSETFROM:+0200
TZOFFSETTO:+0100
TZNAME:CET
DTSTART:20241027T010000
END:STANDARD
BEGIN:DAYLIGHT
TZOFFSETFROM:+0100
TZOFFSETTO:+0200
TZNAME:CEST
DTSTART:20250330T010000
END:DAYLIGHT
BEGIN:STANDARD
TZOFFSETFROM:+0200
TZOFFSETTO:+0100
TZNAME:CET
DTSTART:20251026T010000
END:STANDARD
BEGIN:DAYLIGHT
TZOFFSETFROM:+0100
TZOFFSETTO:+0200
TZNAME:CEST
DTSTART:20260329T010000
END:DAYLIGHT
BEGIN:STANDARD
TZOFFSETFROM:+0200
TZOFFSETTO:+0100
TZNAME:CET
DTSTART:20261025T010000
END:STANDARD
END:VTIMEZONE
BEGIN:VEVENT
DTSTART;TZID=Europe/Madrid:20250318T090000
DTEND;TZID=Europe/Madrid:20250318T173000
DTSTAMP:20260424T050007
CREATED:20250205T165408Z
LAST-MODIFIED:20250205T165408Z
UID:43823-1742288400-1742319000@www.aprofarm.com
SUMMARY:ACTUALIZACION NORMATIVA EN PRODUCTOS COSMÉTICOS
DESCRIPTION:Las jornadas científicas-técnicas sobre actualización normativa en productos cosméticos son un punto de encuentro clave para profesionales del sector\, reguladores y expertos. Este evento tiene como objetivo principal ofrecer una visión actualizada y práctica de las normativas que rigen el mercado cosmético\, tanto a nivel nacional como internacional\, fomentando el debate y la comprensión de los retos actuales en materia de regulación y cumplimiento.\n \nCon un enfoque en las novedades regulatorias\, casos prácticos de inspección y control\, así como en las tendencias internacionales\, las jornadas pretenden proporcionar herramientas útiles para una gestión normativa eficaz y alineada con las exigencias globales del sector. Además\, se abordará el impacto de tecnologías emergentes\, como la inteligencia artificial\, en el futuro de la industria cosmética.
URL:https://www.aprofarm.com/evento/actualizacion-normativa-en-productos-cosmeticos/
LOCATION:Valencia
CATEGORIES:cosmética,Curso
ATTACH;FMTTYPE=image/png:https://www.aprofarm.com/wp-content/uploads/2025/02/3.png
END:VEVENT
END:VCALENDAR